BEGIN:VCALENDAR
VERSION:2.0
PRODID:icalendar-ruby
CALSCALE:GREGORIAN
BEGIN:VEVENT
DTSTAMP:20260425T155502Z
UID:ab08001b-611b-40ce-81a5-0f411ba781a8
DTSTART:20240215T184300
DTEND:20240215T235900
DESCRIPTION:
LOCATION:Театральный проезд\, 2
ORGANIZER:mailto:conference@vedomosti.ru
SUMMARY:Социальные инвестиции
URL:http://events.vedomosti.ru/events/socinvest2024
BEGIN:VALARM
ACTION:DISPLAY
TRIGGER:-P1D
DESCRIPTION:Завтра\, в 18:43. Социальные инвестиц
 ии
END:VALARM
END:VEVENT
END:VCALENDAR
