BEGIN:VCALENDAR
VERSION:2.0
PRODID:icalendar-ruby
CALSCALE:GREGORIAN
BEGIN:VEVENT
DTSTAMP:20260425T172745Z
UID:4bbf50d8-782e-4a24-bd3d-a24a28e228ab
DTSTART:20230217T093000
DTEND:20230217T164500
DESCRIPTION:
LOCATION:улица Петровка\, 11
ORGANIZER:mailto:conference@vedomosti.ru
SUMMARY:Социальные инвестиции: ответственно
 сть бизнеса перед будущими поколениями
URL:http://events.vedomosti.ru/events/socinvest
BEGIN:VALARM
ACTION:DISPLAY
TRIGGER:-P1D
DESCRIPTION:Завтра\, в 09:30. Социальные инвестиц
 ии: ответственность бизнеса перед будущ
 ими поколениями
END:VALARM
END:VEVENT
END:VCALENDAR
