BEGIN:VCALENDAR
VERSION:2.0
PRODID:icalendar-ruby
CALSCALE:GREGORIAN
BEGIN:VEVENT
DTSTAMP:20260419T145911Z
UID:a70a90c8-fbef-43d1-9fd3-23e1e4c5bcc4
DTSTART:20191216T090000
DTEND:20191216T190000
DESCRIPTION:
LOCATION:Космодамианская набережная\, 52с7
ORGANIZER:mailto:conference@vedomosti.ru
SUMMARY:Сила лидера
URL:http://events.vedomosti.ru/events/silalidera
BEGIN:VALARM
ACTION:DISPLAY
TRIGGER:-P1D
DESCRIPTION:Завтра\, в 09:00. Сила лидера
END:VALARM
END:VEVENT
END:VCALENDAR
