BEGIN:VCALENDAR
VERSION:2.0
PRODID:icalendar-ruby
CALSCALE:GREGORIAN
BEGIN:VEVENT
DTSTAMP:20260421T091148Z
UID:1a92859f-5708-4dc1-8fec-bef69ae0b514
DTSTART:20130228T153800
DTEND:20130228T153800
DESCRIPTION:
LOCATION:ул. Неглинная\, д.4
ORGANIZER:mailto:conference@vedomosti.ru
SUMMARY:Russian SAM Academy
URL:http://events.vedomosti.ru/events/sam2013
BEGIN:VALARM
ACTION:DISPLAY
TRIGGER:-P1D
DESCRIPTION:Завтра\, в 15:38. Russian SAM Academy
END:VALARM
END:VEVENT
END:VCALENDAR
