BEGIN:VCALENDAR
VERSION:2.0
PRODID:icalendar-ruby
CALSCALE:GREGORIAN
BEGIN:VEVENT
DTSTAMP:20260421T003250Z
UID:c3e07508-6842-4bb2-9519-59f43f2c6ab9
DTSTART:20250619T164000
DTEND:20250619T180000
DESCRIPTION:
LOCATION:Петербургское шоссе\, 64к1\, павильон G
 \, стенд Правительства Москвы
ORGANIZER:mailto:conference@vedomosti.ru
SUMMARY:Цифровая безопасность как вектор ра
 звития прогрессивного общества
URL:http://events.vedomosti.ru/events/safety25
BEGIN:VALARM
ACTION:DISPLAY
TRIGGER:-P1D
DESCRIPTION:Завтра\, в 16:40. Цифровая безопаснос
 ть как вектор развития прогрессивного о
 бщества
END:VALARM
END:VEVENT
END:VCALENDAR
