BEGIN:VCALENDAR
VERSION:2.0
PRODID:icalendar-ruby
CALSCALE:GREGORIAN
BEGIN:VEVENT
DTSTAMP:20260422T013741Z
UID:12302883-79c9-4e83-9b77-3cbfcca3d26b
DTSTART:20200608T090000
DTEND:20200608T180000
DESCRIPTION:
LOCATION:
ORGANIZER:mailto:conference@vedomosti.ru
SUMMARY:Эфир 1. Деньги и стройки
URL:http://events.vedomosti.ru/events/rptfonline
BEGIN:VALARM
ACTION:DISPLAY
TRIGGER:-P1D
DESCRIPTION:Завтра\, в 09:00. Эфир 1. Деньги и строй
 ки
END:VALARM
END:VEVENT
END:VCALENDAR
