BEGIN:VCALENDAR
VERSION:2.0
PRODID:icalendar-ruby
CALSCALE:GREGORIAN
BEGIN:VEVENT
DTSTAMP:20260421T165731Z
UID:8e2700cc-0cc9-4fc3-b1d9-c2f24ff50375
DTSTART:20210526T090000
DTEND:20210526T190000
DESCRIPTION:
LOCATION:улица Петровка\, 11
ORGANIZER:mailto:conference@vedomosti.ru
SUMMARY:Российский форум по инновациям в нед
 вижимости
URL:http://events.vedomosti.ru/events/rptf21
BEGIN:VALARM
ACTION:DISPLAY
TRIGGER:-P1D
DESCRIPTION:Завтра\, в 09:00. Российский форум по 
 инновациям в недвижимости
END:VALARM
END:VEVENT
END:VCALENDAR
