BEGIN:VCALENDAR
VERSION:2.0
PRODID:icalendar-ruby
CALSCALE:GREGORIAN
BEGIN:VEVENT
DTSTAMP:20260425T220811Z
UID:7e941083-566e-47da-b483-c27b53075ecc
DTSTART:20121128T181000
DTEND:20121129T181000
DESCRIPTION:
LOCATION:ул. Тверская\, д. 3
ORGANIZER:mailto:conference@vedomosti.ru
SUMMARY:Рынки капитала
URL:http://events.vedomosti.ru/events/rkffr12
BEGIN:VALARM
ACTION:DISPLAY
TRIGGER:-P1D
DESCRIPTION:Завтра\, в 18:10. Рынки капитала
END:VALARM
END:VEVENT
END:VCALENDAR
