BEGIN:VCALENDAR
VERSION:2.0
PRODID:icalendar-ruby
CALSCALE:GREGORIAN
BEGIN:VEVENT
DTSTAMP:20260425T203243Z
UID:28384aaa-274e-4f9e-a21b-a3a5911eba67
DTSTART:20111123T161500
DTEND:20111124T161600
DESCRIPTION:
LOCATION:ул. Тверская\, д. 3
ORGANIZER:mailto:conference@vedomosti.ru
SUMMARY:Рынки капитала
URL:http://events.vedomosti.ru/events/rkffr11
BEGIN:VALARM
ACTION:DISPLAY
TRIGGER:-P1D
DESCRIPTION:Завтра\, в 16:15. Рынки капитала
END:VALARM
END:VEVENT
END:VCALENDAR
