BEGIN:VCALENDAR
VERSION:2.0
PRODID:icalendar-ruby
CALSCALE:GREGORIAN
BEGIN:VEVENT
DTSTAMP:20260423T151136Z
UID:82eef88b-551c-436c-9a13-d4c3c5693b21
DTSTART:20210323T090000
DTEND:20210323T190000
DESCRIPTION:
LOCATION:улица Петровка\, 11
ORGANIZER:mailto:conference@vedomosti.ru
SUMMARY:Ритейл в России: время дискаунтеров 
 и маркетплейсов
URL:http://events.vedomosti.ru/events/riteil21
BEGIN:VALARM
ACTION:DISPLAY
TRIGGER:-P1D
DESCRIPTION:Завтра\, в 09:00. Ритейл в России: врем
 я дискаунтеров и маркетплейсов
END:VALARM
END:VEVENT
END:VCALENDAR
