BEGIN:VCALENDAR
VERSION:2.0
PRODID:icalendar-ruby
CALSCALE:GREGORIAN
BEGIN:VEVENT
DTSTAMP:20260423T162601Z
UID:bbe41040-e7f9-4d75-9782-8f799b531361
DTSTART:20200904T090000
DTEND:20200904T190000
DESCRIPTION:
LOCATION:улица Петровка\, 11
ORGANIZER:mailto:conference@vedomosti.ru
SUMMARY:Ритейл в России
URL:http://events.vedomosti.ru/events/riteil2020
BEGIN:VALARM
ACTION:DISPLAY
TRIGGER:-P1D
DESCRIPTION:Завтра\, в 09:00. Ритейл в России
END:VALARM
END:VEVENT
END:VCALENDAR
