BEGIN:VCALENDAR
VERSION:2.0
PRODID:icalendar-ruby
CALSCALE:GREGORIAN
BEGIN:VEVENT
DTSTAMP:20260425T191323Z
UID:d1146d86-e5fa-4b3d-bdff-e135bd2bc1c8
DTSTART:20141126T070000
DTEND:20141126T190000
DESCRIPTION:
LOCATION:ул. Тверская\, д. 3
ORGANIZER:mailto:conference@vedomosti.ru
SUMMARY:Развитие банковской розницы через ц
 ифровую трансформацию бизнеса
URL:http://events.vedomosti.ru/events/retail_banking_14
BEGIN:VALARM
ACTION:DISPLAY
TRIGGER:-P1D
DESCRIPTION:Завтра\, в 07:00. Развитие банковской 
 розницы через цифровую трансформацию би
 знеса
END:VALARM
END:VEVENT
END:VCALENDAR
