BEGIN:VCALENDAR
VERSION:2.0
PRODID:icalendar-ruby
CALSCALE:GREGORIAN
BEGIN:VEVENT
DTSTAMP:20260425T220811Z
UID:a44dc3fb-bb94-431e-9cea-609e3303c6b2
DTSTART:20131128T110000
DTEND:20131129T200000
DESCRIPTION:
LOCATION:ул. Тверская\, д. 3
ORGANIZER:mailto:conference@vedomosti.ru
SUMMARY:Банковская розница
URL:http://events.vedomosti.ru/events/retail_banking
BEGIN:VALARM
ACTION:DISPLAY
TRIGGER:-P1D
DESCRIPTION:Завтра\, в 11:00. Банковская розница
END:VALARM
END:VEVENT
END:VCALENDAR
