BEGIN:VCALENDAR
VERSION:2.0
PRODID:icalendar-ruby
CALSCALE:GREGORIAN
BEGIN:VEVENT
DTSTAMP:20260426T022340Z
UID:18e34031-37ff-493d-8818-228b858f6b1e
DTSTART:20130606T093000
DTEND:20130606T093000
DESCRIPTION:
LOCATION:Тверская улица\, 22
ORGANIZER:mailto:conference@vedomosti.ru
SUMMARY:Рециклинг отходов
URL:http://events.vedomosti.ru/events/recycling
BEGIN:VALARM
ACTION:DISPLAY
TRIGGER:-P1D
DESCRIPTION:Завтра\, в 09:30. Рециклинг отходов
END:VALARM
END:VEVENT
END:VCALENDAR
