BEGIN:VCALENDAR
VERSION:2.0
PRODID:icalendar-ruby
CALSCALE:GREGORIAN
BEGIN:VEVENT
DTSTAMP:20260422T213603Z
UID:7eb8aa4e-be96-411d-8304-92e07a764733
DTSTART:20101125T112300
DTEND:20101125T112300
DESCRIPTION:
LOCATION:ул. Тверская\, д. 3
ORGANIZER:mailto:conference@vedomosti.ru
SUMMARY:Всероссийская конференция «Развити
 е ипотеки в России»
URL:http://events.vedomosti.ru/events/razvit
BEGIN:VALARM
ACTION:DISPLAY
TRIGGER:-P1D
DESCRIPTION:Завтра\, в 11:23. Всероссийская конфе
 ренция «Развитие ипотеки в России»
END:VALARM
END:VEVENT
END:VCALENDAR
