BEGIN:VCALENDAR
VERSION:2.0
PRODID:icalendar-ruby
CALSCALE:GREGORIAN
BEGIN:VEVENT
DTSTAMP:20260422T154823Z
UID:39cc06f5-1861-4f95-83fa-8f36c92ffd39
DTSTART:20260430T160000
DTEND:20260430T173000
DESCRIPTION:
LOCATION:
ORGANIZER:mailto:conference@vedomosti.ru
SUMMARY:Продовольственная безопасность Бол
 ьшой Евразии
URL:http://events.vedomosti.ru/events/prodovolstvennaya_bezopasnost
BEGIN:VALARM
ACTION:DISPLAY
TRIGGER:-P1D
DESCRIPTION:Завтра\, в 16:00. Продовольственная б
 езопасность Большой Евразии
END:VALARM
END:VEVENT
END:VCALENDAR
