BEGIN:VCALENDAR
VERSION:2.0
PRODID:icalendar-ruby
CALSCALE:GREGORIAN
BEGIN:VEVENT
DTSTAMP:20260426T012429Z
UID:949be071-1784-40f8-9f0e-a8ee3e4858ca
DTSTART:20200220T085900
DTEND:20200220T190000
DESCRIPTION:
LOCATION:улица Новый Арбат\, 32
ORGANIZER:mailto:conference@vedomosti.ru
SUMMARY:Ответственная финансово-инвестицио
 нная практика в России
URL:http://events.vedomosti.ru/events/pri_20
BEGIN:VALARM
ACTION:DISPLAY
TRIGGER:-P1D
DESCRIPTION:Завтра\, в 08:59. Ответственная финан
 сово-инвестиционная практика в России
END:VALARM
END:VEVENT
END:VCALENDAR
