BEGIN:VCALENDAR
VERSION:2.0
PRODID:icalendar-ruby
CALSCALE:GREGORIAN
BEGIN:VEVENT
DTSTAMP:20260425T220141Z
UID:04d2e753-f991-4fe5-8081-e3eb321c81aa
DTSTART:20160617T100000
DTEND:20160617T180000
DESCRIPTION:
LOCATION:Петербургское шоссе\, д. 64/1
ORGANIZER:mailto:conference@vedomosti.ru
SUMMARY:Комплексное развитие территорий: с п
 равилами и без
URL:http://events.vedomosti.ru/events/pmef_16
BEGIN:VALARM
ACTION:DISPLAY
TRIGGER:-P1D
DESCRIPTION:Завтра\, в 10:00. Комплексное развити
 е территорий: с правилами и без
END:VALARM
END:VEVENT
END:VCALENDAR
