BEGIN:VCALENDAR
VERSION:2.0
PRODID:icalendar-ruby
CALSCALE:GREGORIAN
BEGIN:VEVENT
DTSTAMP:20260422T134727Z
UID:7b96d539-4784-475c-8820-ad5cacbaf443
DTSTART:20260603T000000
DTEND:20260606T000000
DESCRIPTION:
LOCATION:Петербургское шоссе\, 64к1
ORGANIZER:mailto:conference@vedomosti.ru
SUMMARY:Петербургский международный эконом
 ический форум
URL:http://events.vedomosti.ru/events/pmef26
BEGIN:VALARM
ACTION:DISPLAY
TRIGGER:-P1D
DESCRIPTION:Завтра\, в 00:00. Петербургский между
 народный экономический форум
END:VALARM
END:VEVENT
END:VCALENDAR
