BEGIN:VCALENDAR
VERSION:2.0
PRODID:icalendar-ruby
CALSCALE:GREGORIAN
BEGIN:VEVENT
DTSTAMP:20260425T203044Z
UID:71942c75-3761-4a20-82cd-1e5d7a7fd2a0
DTSTART:20101124T141400
DTEND:20101124T141400
DESCRIPTION:
LOCATION:ул. Тверская\, д. 3
ORGANIZER:mailto:conference@vedomosti.ru
SUMMARY:Пленарная сессия
URL:http://events.vedomosti.ru/events/plen10
BEGIN:VALARM
ACTION:DISPLAY
TRIGGER:-P1D
DESCRIPTION:Завтра\, в 14:14. Пленарная сессия
END:VALARM
END:VEVENT
END:VCALENDAR
