BEGIN:VCALENDAR
VERSION:2.0
PRODID:icalendar-ruby
CALSCALE:GREGORIAN
BEGIN:VEVENT
DTSTAMP:20260419T180147Z
UID:66786c3c-6efc-4f02-bad2-ee17fcd1115e
DTSTART:20091204T141400
DTEND:20091204T141400
DESCRIPTION:
LOCATION:Космодамианская наб.\, 52\, стр. 6
ORGANIZER:mailto:conference@vedomosti.ru
SUMMARY:Pharma Russia
URL:http://events.vedomosti.ru/events/pharma9
BEGIN:VALARM
ACTION:DISPLAY
TRIGGER:-P1D
DESCRIPTION:Завтра\, в 14:14. Pharma Russia
END:VALARM
END:VEVENT
END:VCALENDAR
