BEGIN:VCALENDAR
VERSION:2.0
PRODID:icalendar-ruby
CALSCALE:GREGORIAN
BEGIN:VEVENT
DTSTAMP:20260423T201016Z
UID:0774909b-c029-45ef-a38c-99c5165e906e
DTSTART:20180418T090000
DTEND:20180418T180000
DESCRIPTION:
LOCATION:Октябрьская улица\, 17А
ORGANIZER:mailto:conference@vedomosti.ru
SUMMARY:ФармЭволюция 2018
URL:http://events.vedomosti.ru/events/pharma18
BEGIN:VALARM
ACTION:DISPLAY
TRIGGER:-P1D
DESCRIPTION:Завтра\, в 09:00. ФармЭволюция 2018
END:VALARM
END:VEVENT
END:VCALENDAR
