BEGIN:VCALENDAR
VERSION:2.0
PRODID:icalendar-ruby
CALSCALE:GREGORIAN
BEGIN:VEVENT
DTSTAMP:20260420T100349Z
UID:b1e42212-2312-46d5-b765-99895aee10e8
DTSTART:20170404T090000
DTEND:20170404T180000
DESCRIPTION:
LOCATION:Октябрьская улица\, 17А
ORGANIZER:mailto:conference@vedomosti.ru
SUMMARY:Фармэволюция 2017
URL:http://events.vedomosti.ru/events/pharma17
BEGIN:VALARM
ACTION:DISPLAY
TRIGGER:-P1D
DESCRIPTION:Завтра\, в 09:00. Фармэволюция 2017
END:VALARM
END:VEVENT
END:VCALENDAR
