BEGIN:VCALENDAR
VERSION:2.0
PRODID:icalendar-ruby
CALSCALE:GREGORIAN
BEGIN:VEVENT
DTSTAMP:20260420T092027Z
UID:3c5e1b9e-e63d-458f-9e90-ad5b881e4f35
DTSTART:20121023T132100
DTEND:20121023T132100
DESCRIPTION:
LOCATION:ул. Тверская\, д. 3
ORGANIZER:mailto:conference@vedomosti.ru
SUMMARY:Pharma Russia
URL:http://events.vedomosti.ru/events/pharma12
BEGIN:VALARM
ACTION:DISPLAY
TRIGGER:-P1D
DESCRIPTION:Завтра\, в 13:21. Pharma Russia
END:VALARM
END:VEVENT
END:VCALENDAR
