BEGIN:VCALENDAR
VERSION:2.0
PRODID:icalendar-ruby
CALSCALE:GREGORIAN
BEGIN:VEVENT
DTSTAMP:20260419T194325Z
UID:786e53ae-fba7-4bd0-9bea-122e1fe2eebd
DTSTART:20230622T100000
DTEND:20230622T180000
DESCRIPTION:
LOCATION:Малый Ивановский переулок\, 7-9с1
ORGANIZER:mailto:conference@vedomosti.ru
SUMMARY:People & Organization Forum
URL:http://events.vedomosti.ru/events/peopleorgforum23
BEGIN:VALARM
ACTION:DISPLAY
TRIGGER:-P1D
DESCRIPTION:Завтра\, в 10:00. People & Organization Forum
END:VALARM
END:VEVENT
END:VCALENDAR
