BEGIN:VCALENDAR
VERSION:2.0
PRODID:icalendar-ruby
CALSCALE:GREGORIAN
BEGIN:VEVENT
DTSTAMP:20260419T194325Z
UID:287231f8-b035-4d51-8a60-f6308ceccab9
DTSTART:20260624T000000
DTEND:20260624T180000
DESCRIPTION:
LOCATION:Болотная набережная\, 1с1
ORGANIZER:mailto:conference@vedomosti.ru
SUMMARY:Форум про людей
URL:http://events.vedomosti.ru/events/peopleforum_26
BEGIN:VALARM
ACTION:DISPLAY
TRIGGER:-P1D
DESCRIPTION:Завтра\, в 00:00. Форум про людей
END:VALARM
END:VEVENT
END:VCALENDAR
