BEGIN:VCALENDAR
VERSION:2.0
PRODID:icalendar-ruby
CALSCALE:GREGORIAN
BEGIN:VEVENT
DTSTAMP:20260424T003337Z
UID:49758a24-7480-4606-8005-a7ff26882177
DTSTART:20140311T090000
DTEND:20140313T180000
DESCRIPTION:
LOCATION:Москва\, Зубовский бульвар\, д. 4
ORGANIZER:mailto:conference@vedomosti.ru
SUMMARY:Российская неделя ГЧП 2014
URL:http://events.vedomosti.ru/events/p3week
BEGIN:VALARM
ACTION:DISPLAY
TRIGGER:-P1D
DESCRIPTION:Завтра\, в 09:00. Российская неделя ГЧ
 П 2014
END:VALARM
END:VEVENT
END:VCALENDAR
