BEGIN:VCALENDAR
VERSION:2.0
PRODID:icalendar-ruby
CALSCALE:GREGORIAN
BEGIN:VEVENT
DTSTAMP:20260425T211819Z
UID:49054426-5f9e-4dbd-b9a7-c89e56057345
DTSTART:20250514T090000
DTEND:20250514T180000
DESCRIPTION:
LOCATION:Новинский бульвар\, 31
ORGANIZER:mailto:conference@vedomosti.ru
SUMMARY:Форум по устойчивому развитию
URL:http://events.vedomosti.ru/events/national25
BEGIN:VALARM
ACTION:DISPLAY
TRIGGER:-P1D
DESCRIPTION:Завтра\, в 09:00. Форум по устойчивому
  развитию
END:VALARM
END:VEVENT
END:VCALENDAR
