BEGIN:VCALENDAR
VERSION:2.0
PRODID:icalendar-ruby
CALSCALE:GREGORIAN
BEGIN:VEVENT
DTSTAMP:20260425T223716Z
UID:da1adecc-d1da-4ede-9118-69ea73c01c80
DTSTART:20240515T090000
DTEND:20240515T160000
DESCRIPTION:
LOCATION:Тверская улица\, 22
ORGANIZER:mailto:conference@vedomosti.ru
SUMMARY:Форум по устойчивому развитию
URL:http://events.vedomosti.ru/events/national24
BEGIN:VALARM
ACTION:DISPLAY
TRIGGER:-P1D
DESCRIPTION:Завтра\, в 09:00. Форум по устойчивому
  развитию
END:VALARM
END:VEVENT
END:VCALENDAR
