BEGIN:VCALENDAR
VERSION:2.0
PRODID:icalendar-ruby
CALSCALE:GREGORIAN
BEGIN:VEVENT
DTSTAMP:20260425T223708Z
UID:bc81e084-ac61-4505-9b19-c90b51c6556b
DTSTART:20230517T100000
DTEND:20230517T180000
DESCRIPTION:
LOCATION:Тверская улица\, 22
ORGANIZER:mailto:conference@vedomosti.ru
SUMMARY:Национальный форум по устойчивому р
 азвитию
URL:http://events.vedomosti.ru/events/national23
BEGIN:VALARM
ACTION:DISPLAY
TRIGGER:-P1D
DESCRIPTION:Завтра\, в 10:00. Национальный форум п
 о устойчивому развитию
END:VALARM
END:VEVENT
END:VCALENDAR
