BEGIN:VCALENDAR
VERSION:2.0
PRODID:icalendar-ruby
CALSCALE:GREGORIAN
BEGIN:VEVENT
DTSTAMP:20260426T042728Z
UID:aa506df4-97e3-4683-aa0f-245832bdf14e
DTSTART:20171011T093000
DTEND:20171011T130000
DESCRIPTION:
LOCATION:Каланчёвская улица\, 21/40
ORGANIZER:mailto:conference@vedomosti.ru
SUMMARY:Налоговый бизнес-завтрак 2017
URL:http://events.vedomosti.ru/events/nalogbreakf2017
BEGIN:VALARM
ACTION:DISPLAY
TRIGGER:-P1D
DESCRIPTION:Завтра\, в 09:30. Налоговый бизнес-зав
 трак 2017
END:VALARM
END:VEVENT
END:VCALENDAR
