BEGIN:VCALENDAR
VERSION:2.0
PRODID:icalendar-ruby
CALSCALE:GREGORIAN
BEGIN:VEVENT
DTSTAMP:20260426T033218Z
UID:a7dfaa0d-d993-4659-812c-27504d79b0a8
DTSTART:20111123T173800
DTEND:20111124T173800
DESCRIPTION:
LOCATION:ул. Тверская\, д. 3
ORGANIZER:mailto:conference@vedomosti.ru
SUMMARY:Проблемы внедрения международных ст
 андартов финансовой отчетности  в Росси
 и (МСФО)
URL:http://events.vedomosti.ru/events/msfo11
BEGIN:VALARM
ACTION:DISPLAY
TRIGGER:-P1D
DESCRIPTION:Завтра\, в 17:38. Проблемы внедрения м
 еждународных стандартов финансовой отч
 етности  в России (МСФО)
END:VALARM
END:VEVENT
END:VCALENDAR
