BEGIN:VCALENDAR
VERSION:2.0
PRODID:icalendar-ruby
CALSCALE:GREGORIAN
BEGIN:VEVENT
DTSTAMP:20260426T001124Z
UID:184528f5-5ec2-4df4-96d8-4295717c6c3d
DTSTART:20111021T095400
DTEND:20111021T155400
DESCRIPTION:
LOCATION:Космодамианская набережная\, д. 52\, с
 тр. 7
ORGANIZER:mailto:conference@vedomosti.ru
SUMMARY:Развитие малого и среднего бизнеса
URL:http://events.vedomosti.ru/events/msbusiness11
BEGIN:VALARM
ACTION:DISPLAY
TRIGGER:-P1D
DESCRIPTION:Завтра\, в 09:54. Развитие малого и ср
 еднего бизнеса
END:VALARM
END:VEVENT
END:VCALENDAR
