BEGIN:VCALENDAR
VERSION:2.0
PRODID:icalendar-ruby
CALSCALE:GREGORIAN
BEGIN:VEVENT
DTSTAMP:20260426T000357Z
UID:5ea7d4a3-4baa-420f-a430-77ade0f3cecc
DTSTART:20100518T113900
DTEND:20100518T113900
DESCRIPTION:
LOCATION:ул. Тверская\, д. 3
ORGANIZER:mailto:conference@vedomosti.ru
SUMMARY:Развитие малого и среднего бизнеса
URL:http://events.vedomosti.ru/events/msbusiness10
BEGIN:VALARM
ACTION:DISPLAY
TRIGGER:-P1D
DESCRIPTION:Завтра\, в 11:39. Развитие малого и ср
 еднего бизнеса
END:VALARM
END:VEVENT
END:VCALENDAR
