BEGIN:VCALENDAR
VERSION:2.0
PRODID:icalendar-ruby
CALSCALE:GREGORIAN
BEGIN:VEVENT
DTSTAMP:20260422T171726Z
UID:4ae400a1-1143-45d2-a9f7-2dcaa501d46a
DTSTART:20261113T000000
DTEND:20261113T180000
DESCRIPTION:
LOCATION:Тверская улица\, 22
ORGANIZER:mailto:conference@vedomosti.ru
SUMMARY:MREF: 20 лет экспертизы
URL:http://events.vedomosti.ru/events/mref26
BEGIN:VALARM
ACTION:DISPLAY
TRIGGER:-P1D
DESCRIPTION:Завтра\, в 00:00. MREF: 20 лет экспертизы
END:VALARM
END:VEVENT
END:VCALENDAR
