BEGIN:VCALENDAR
VERSION:2.0
PRODID:icalendar-ruby
CALSCALE:GREGORIAN
BEGIN:VEVENT
DTSTAMP:20260419T194010Z
UID:28761927-214b-45a1-9e9f-51879a112195
DTSTART:20251114T140000
DTEND:20251114T183000
DESCRIPTION:
LOCATION:Болотная набережная\, 1с1
ORGANIZER:mailto:conference@vedomosti.ru
SUMMARY:MREF 2025: стратегии для рынка недвижимо
 сти
URL:http://events.vedomosti.ru/events/mref25
BEGIN:VALARM
ACTION:DISPLAY
TRIGGER:-P1D
DESCRIPTION:Завтра\, в 14:00. MREF 2025: стратегии для 
 рынка недвижимости
END:VALARM
END:VEVENT
END:VCALENDAR
