BEGIN:VCALENDAR
VERSION:2.0
PRODID:icalendar-ruby
CALSCALE:GREGORIAN
BEGIN:VEVENT
DTSTAMP:20260422T220345Z
UID:bce45de5-7f84-417d-8a9e-1176e23b2ae7
DTSTART:20201119T090000
DTEND:20201119T190000
DESCRIPTION:
LOCATION:
ORGANIZER:mailto:conference@vedomosti.ru
SUMMARY:MREF - 2020: cтратегии и тактики девелопме
 нта
URL:http://events.vedomosti.ru/events/mref20
BEGIN:VALARM
ACTION:DISPLAY
TRIGGER:-P1D
DESCRIPTION:Завтра\, в 09:00. MREF - 2020: cтратегии и та
 ктики девелопмента
END:VALARM
END:VEVENT
END:VCALENDAR
