BEGIN:VCALENDAR
VERSION:2.0
PRODID:icalendar-ruby
CALSCALE:GREGORIAN
BEGIN:VEVENT
DTSTAMP:20260423T061023Z
UID:8639688d-2842-4999-9712-43e24a3c9e7e
DTSTART:20171025T090000
DTEND:20171025T180000
DESCRIPTION:
LOCATION:Новинский бульвар\, 8с2
ORGANIZER:mailto:conference@vedomosti.ru
SUMMARY:XI Московский форум лидеров рынка нед
 вижимости «MREF-2017»
URL:http://events.vedomosti.ru/events/mref17
BEGIN:VALARM
ACTION:DISPLAY
TRIGGER:-P1D
DESCRIPTION:Завтра\, в 09:00. XI Московский форум л
 идеров рынка недвижимости «MREF-2017»
END:VALARM
END:VEVENT
END:VCALENDAR
