BEGIN:VCALENDAR
VERSION:2.0
PRODID:icalendar-ruby
CALSCALE:GREGORIAN
BEGIN:VEVENT
DTSTAMP:20260423T073208Z
UID:7f9ba184-35f3-47fb-aaa3-d55f45c51bf7
DTSTART:20151028T090000
DTEND:20151028T180000
DESCRIPTION:
LOCATION:Космодамианская набережная\, д. 52\, с
 тр. 7
ORGANIZER:mailto:conference@vedomosti.ru
SUMMARY:MREF-2015
URL:http://events.vedomosti.ru/events/mref15
BEGIN:VALARM
ACTION:DISPLAY
TRIGGER:-P1D
DESCRIPTION:Завтра\, в 09:00. MREF-2015
END:VALARM
END:VEVENT
END:VCALENDAR
