BEGIN:VCALENDAR
VERSION:2.0
PRODID:icalendar-ruby
CALSCALE:GREGORIAN
BEGIN:VEVENT
DTSTAMP:20260423T085110Z
UID:f8ad1755-1c27-40cf-afff-9bedc5bba121
DTSTART:20141029T090000
DTEND:20141029T180000
DESCRIPTION:
LOCATION:ул. Тверская\, д. 22
ORGANIZER:mailto:conference@vedomosti.ru
SUMMARY:MREF 2014
URL:http://events.vedomosti.ru/events/mref14
BEGIN:VALARM
ACTION:DISPLAY
TRIGGER:-P1D
DESCRIPTION:Завтра\, в 09:00. MREF 2014
END:VALARM
END:VEVENT
END:VCALENDAR
