BEGIN:VCALENDAR
VERSION:2.0
PRODID:icalendar-ruby
CALSCALE:GREGORIAN
BEGIN:VEVENT
DTSTAMP:20260423T001540Z
UID:83c8c7ec-5643-4eff-a5c4-82c989f05be2
DTSTART:20121024T133800
DTEND:20121024T133800
DESCRIPTION:
LOCATION:Космодамианская наб.\, 52\, стр. 6
ORGANIZER:mailto:conference@vedomosti.ru
SUMMARY:MREF 2012
URL:http://events.vedomosti.ru/events/mref12
BEGIN:VALARM
ACTION:DISPLAY
TRIGGER:-P1D
DESCRIPTION:Завтра\, в 13:38. MREF 2012
END:VALARM
END:VEVENT
END:VCALENDAR
