BEGIN:VCALENDAR
VERSION:2.0
PRODID:icalendar-ruby
CALSCALE:GREGORIAN
BEGIN:VEVENT
DTSTAMP:20260424T155354Z
UID:18606efc-58bd-4f79-bbc7-be42525c3747
DTSTART:20111108T135400
DTEND:20111108T135400
DESCRIPTION:
LOCATION:ул. Тверская\, д. 3
ORGANIZER:mailto:conference@vedomosti.ru
SUMMARY:Форум по маркетингу и PR
URL:http://events.vedomosti.ru/events/mpr11
BEGIN:VALARM
ACTION:DISPLAY
TRIGGER:-P1D
DESCRIPTION:Завтра\, в 13:54. Форум по маркетингу 
 и PR
END:VALARM
END:VEVENT
END:VCALENDAR
