BEGIN:VCALENDAR
VERSION:2.0
PRODID:icalendar-ruby
CALSCALE:GREGORIAN
BEGIN:VEVENT
DTSTAMP:20260422T204452Z
UID:4ef328fe-60b3-40ad-bb5e-d00883c6fdb9
DTSTART:20080516T172600
DTEND:20080516T172600
DESCRIPTION:
LOCATION:ул. Тверская\, 26
ORGANIZER:mailto:conference@vedomosti.ru
SUMMARY:Ипотека в России - 2008
URL:http://events.vedomosti.ru/events/mortgage8
BEGIN:VALARM
ACTION:DISPLAY
TRIGGER:-P1D
DESCRIPTION:Завтра\, в 17:26. Ипотека в России - 2008
END:VALARM
END:VEVENT
END:VCALENDAR
