BEGIN:VCALENDAR
VERSION:2.0
PRODID:icalendar-ruby
CALSCALE:GREGORIAN
BEGIN:VEVENT
DTSTAMP:20260420T174733Z
UID:04af7e80-c144-4b33-b497-a2aa6d749762
DTSTART:20101124T144200
DTEND:20101124T144300
DESCRIPTION:
LOCATION:ул. Тверская\, д. 3
ORGANIZER:mailto:conference@vedomosti.ru
SUMMARY:Мировые финансы: прогноз развития
URL:http://events.vedomosti.ru/events/mirfin10
BEGIN:VALARM
ACTION:DISPLAY
TRIGGER:-P1D
DESCRIPTION:Завтра\, в 14:42. Мировые финансы: про
 гноз развития
END:VALARM
END:VEVENT
END:VCALENDAR
