BEGIN:VCALENDAR
VERSION:2.0
PRODID:icalendar-ruby
CALSCALE:GREGORIAN
BEGIN:VEVENT
DTSTAMP:20260426T033225Z
UID:73c49943-bd76-4461-b390-248c81921936
DTSTART:20111123T150900
DTEND:20111124T151000
DESCRIPTION:
LOCATION:ул. Тверская\, д. 3
ORGANIZER:mailto:conference@vedomosti.ru
SUMMARY:Мировые финансы: прогноз развития
URL:http://events.vedomosti.ru/events/mirffr11
BEGIN:VALARM
ACTION:DISPLAY
TRIGGER:-P1D
DESCRIPTION:Завтра\, в 15:09. Мировые финансы: про
 гноз развития
END:VALARM
END:VEVENT
END:VCALENDAR
