BEGIN:VCALENDAR
VERSION:2.0
PRODID:icalendar-ruby
CALSCALE:GREGORIAN
BEGIN:VEVENT
DTSTAMP:20260423T110302Z
UID:84981731-3c52-49d6-81ca-c0b4ad204629
DTSTART:20140312T000000
DTEND:20140312T000000
DESCRIPTION:
LOCATION:1 Boulevard de la Croisette\, 06400 Cannes\, Франция
ORGANIZER:mailto:conference@vedomosti.ru
SUMMARY:MIPIM 2014. Инвестиции в комплексное разв
 итие больших территорий
URL:http://events.vedomosti.ru/events/mipim_1203
BEGIN:VALARM
ACTION:DISPLAY
TRIGGER:-P1D
DESCRIPTION:Завтра\, в 00:00. MIPIM 2014. Инвестиции в к
 омплексное развитие больших территорий
END:VALARM
END:VEVENT
END:VCALENDAR
