BEGIN:VCALENDAR
VERSION:2.0
PRODID:icalendar-ruby
CALSCALE:GREGORIAN
BEGIN:VEVENT
DTSTAMP:20260423T095127Z
UID:22b3f7e3-547f-487b-930e-d1142d10b5ba
DTSTART:20140312T100000
DTEND:20140312T190000
DESCRIPTION:
LOCATION:1 Boulevard de la Croisette\, 06400 Cannes\, Франция
ORGANIZER:mailto:conference@vedomosti.ru
SUMMARY:MIPIM 2014. Инвестиции в комплексное разв
 итие больших территорий города Москвы
URL:http://events.vedomosti.ru/events/mipim25
BEGIN:VALARM
ACTION:DISPLAY
TRIGGER:-P1D
DESCRIPTION:Завтра\, в 10:00. MIPIM 2014. Инвестиции в к
 омплексное развитие больших территорий 
 города Москвы
END:VALARM
END:VEVENT
END:VCALENDAR
