BEGIN:VCALENDAR
VERSION:2.0
PRODID:icalendar-ruby
CALSCALE:GREGORIAN
BEGIN:VEVENT
DTSTAMP:20260423T084115Z
UID:51970941-5400-4607-afc1-7eb1a4824eb2
DTSTART:20160315T090000
DTEND:20160315T180000
DESCRIPTION:
LOCATION:1 Boulevard de la Croisette\, 06400 Cannes\, Франция
ORGANIZER:mailto:conference@vedomosti.ru
SUMMARY:Выживут сильнейшие
URL:http://events.vedomosti.ru/events/mipim16
BEGIN:VALARM
ACTION:DISPLAY
TRIGGER:-P1D
DESCRIPTION:Завтра\, в 09:00. Выживут сильнейшие
END:VALARM
END:VEVENT
END:VCALENDAR
