BEGIN:VCALENDAR
VERSION:2.0
PRODID:icalendar-ruby
CALSCALE:GREGORIAN
BEGIN:VEVENT
DTSTAMP:20260423T113427Z
UID:2a142c42-fa53-4edc-a416-1e0e66db3707
DTSTART:20120307T131800
DTEND:20120307T131800
DESCRIPTION:
LOCATION:1 Boulevard de la Croisette\, 06400 Cannes\, Франция
ORGANIZER:mailto:conference@vedomosti.ru
SUMMARY:Будущее девелопмента в Подмосковье
URL:http://events.vedomosti.ru/events/mip12
BEGIN:VALARM
ACTION:DISPLAY
TRIGGER:-P1D
DESCRIPTION:Завтра\, в 13:18. Будущее девелопмент
 а в Подмосковье
END:VALARM
END:VEVENT
END:VCALENDAR
