BEGIN:VCALENDAR
VERSION:2.0
PRODID:icalendar-ruby
CALSCALE:GREGORIAN
BEGIN:VEVENT
DTSTAMP:20260425T193735Z
UID:d87c2690-5abe-4d75-ac50-fa57274fd454
DTSTART:20140422T090000
DTEND:20140422T180000
DESCRIPTION:
LOCATION:ул. Тверская\, д. 3
ORGANIZER:mailto:conference@vedomosti.ru
SUMMARY:Российская микроэлектроника: перспе
 ктивы развития
URL:http://events.vedomosti.ru/events/microelectronics
BEGIN:VALARM
ACTION:DISPLAY
TRIGGER:-P1D
DESCRIPTION:Завтра\, в 09:00. Российская микроэле
 ктроника: перспективы развития
END:VALARM
END:VEVENT
END:VCALENDAR
